BEGIN:VCALENDAR
VERSION:2.0
PRODID:-//Tukios.com/
BEGIN:VEVENT
UID:99b3269b-e424-4686-865d-96e7a8f33d4e@www.ehwfh.com
DTSTAMP:20260423T225711Z
DTSTART:20260424T170000Z
DTEND:20260424T180000Z
SUMMARY:Graveside Service
DESCRIPTION:
URL:https://www.ehwfh.com/obituaries/suzanne-martin-kibble
LOCATION: State Route 7  Pomeroy OH 45769
GEO:40.0762156;-80.7400266
END:VEVENT
END:VCALENDAR